BEGIN:VCALENDAR
VERSION:2.0
PRODID:-//Society of Automotive Analysts - ECPv6.15.18//NONSGML v1.0//EN
CALSCALE:GREGORIAN
METHOD:PUBLISH
X-WR-CALNAME:Society of Automotive Analysts
X-ORIGINAL-URL:https://saaauto.com
X-WR-CALDESC:Events for Society of Automotive Analysts
REFRESH-INTERVAL;VALUE=DURATION:PT1H
X-Robots-Tag:noindex
X-PUBLISHED-TTL:PT1H
BEGIN:VTIMEZONE
TZID:America/New_York
BEGIN:DAYLIGHT
TZOFFSETFROM:-0500
TZOFFSETTO:-0400
TZNAME:EDT
DTSTART:20220313T070000
END:DAYLIGHT
BEGIN:STANDARD
TZOFFSETFROM:-0400
TZOFFSETTO:-0500
TZNAME:EST
DTSTART:20221106T060000
END:STANDARD
BEGIN:DAYLIGHT
TZOFFSETFROM:-0500
TZOFFSETTO:-0400
TZNAME:EDT
DTSTART:20230312T070000
END:DAYLIGHT
BEGIN:STANDARD
TZOFFSETFROM:-0400
TZOFFSETTO:-0500
TZNAME:EST
DTSTART:20231105T060000
END:STANDARD
BEGIN:DAYLIGHT
TZOFFSETFROM:-0500
TZOFFSETTO:-0400
TZNAME:EDT
DTSTART:20240310T070000
END:DAYLIGHT
BEGIN:STANDARD
TZOFFSETFROM:-0400
TZOFFSETTO:-0500
TZNAME:EST
DTSTART:20241103T060000
END:STANDARD
END:VTIMEZONE
BEGIN:VEVENT
DTSTART;TZID=America/New_York:20230817T120000
DTEND;TZID=America/New_York:20230817T130000
DTSTAMP:20260422T093456
CREATED:20230626T144743Z
LAST-MODIFIED:20230706T152740Z
UID:5135-1692273600-1692277200@saaauto.com
SUMMARY:Lunch & Learn Featuring Our Next Energy -- Building America's Battery Company
DESCRIPTION:  \nBuilding America’s Battery Company\nRange is the greatest obstacle to EV adoption. The mass transition to EV adoption won’t happen until drivers are comfortable with an electric vehicle as their only vehicle. That’s why Our Next Energy (ONE) is on a mission to double the range of electric vehicles. \nONE is designing and manufacturing advanced lithium-ion batteries for electric vehicles to help the U.S. transition to clean energy. Founded in 2020\, ONE has committed to the vision of doubling the range of electric vehicles; using safer\, more sustainable raw materials; and establishing a localized supply chain. The company is also building ONE Circle\, a 20-GWh battery cell factory in Van Buren Township\, Michigan\, that will scale-up battery production in 2024. \nJoin Mujeeb Ijaz\, founder and CEO of ONE\, to learn more about how the company is re-imagining batteries and lithium iron phosphate (LFP) to electrify both commercial and passenger vehicles. \nAdmission is free\, but registration is required. \n \nShare This:\n \n 
URL:https://saaauto.com/event/lunch-learn-featuring-our-next-energy/
LOCATION:MI
CATEGORIES:SAA Events,YPN Events
ATTACH;FMTTYPE=image/jpeg:https://saaauto.com/wp-content/uploads/2023/06/ONE-product.jpg
END:VEVENT
END:VCALENDAR