BEGIN:VCALENDAR
VERSION:2.0
PRODID:-//Society of Automotive Analysts - ECPv6.15.18//NONSGML v1.0//EN
CALSCALE:GREGORIAN
METHOD:PUBLISH
X-WR-CALNAME:Society of Automotive Analysts
X-ORIGINAL-URL:https://saaauto.com
X-WR-CALDESC:Events for Society of Automotive Analysts
REFRESH-INTERVAL;VALUE=DURATION:PT1H
X-Robots-Tag:noindex
X-PUBLISHED-TTL:PT1H
BEGIN:VTIMEZONE
TZID:America/New_York
BEGIN:DAYLIGHT
TZOFFSETFROM:-0500
TZOFFSETTO:-0400
TZNAME:EDT
DTSTART:20250309T070000
END:DAYLIGHT
BEGIN:STANDARD
TZOFFSETFROM:-0400
TZOFFSETTO:-0500
TZNAME:EST
DTSTART:20251102T060000
END:STANDARD
BEGIN:DAYLIGHT
TZOFFSETFROM:-0500
TZOFFSETTO:-0400
TZNAME:EDT
DTSTART:20260308T070000
END:DAYLIGHT
BEGIN:STANDARD
TZOFFSETFROM:-0400
TZOFFSETTO:-0500
TZNAME:EST
DTSTART:20261101T060000
END:STANDARD
BEGIN:DAYLIGHT
TZOFFSETFROM:-0500
TZOFFSETTO:-0400
TZNAME:EDT
DTSTART:20270314T070000
END:DAYLIGHT
BEGIN:STANDARD
TZOFFSETFROM:-0400
TZOFFSETTO:-0500
TZNAME:EST
DTSTART:20271107T060000
END:STANDARD
END:VTIMEZONE
BEGIN:VEVENT
DTSTART;TZID=America/New_York:20260609T080000
DTEND;TZID=America/New_York:20260609T100000
DTSTAMP:20260422T180343
CREATED:20260422T184640Z
LAST-MODIFIED:20260422T184858Z
UID:6689-1780992000-1780999200@saaauto.com
SUMMARY:The Decisions That Will Shape the Next Decade of Automotive: A Conversation with Magna CEO Swamy Kotagiri
DESCRIPTION:Join the Automotive Press Association and the Society of Automotive Analysts for a moderated conversation with Magna CEO Swamy Kotagiri on how automotive leaders are making critical decisions in a more uncertain\, capital‑constrained environment. \nAs the industry balances near‑term performance with the need to invest in what’s next\, Swamy will share Magna’s perspective on how shifting demand\, evolving supply chains\, and regional dynamics are reshaping decision‑making in real time—across customers\, programs\, and markets. \nThe discussion will explore how OEMs and suppliers are navigating these trade‑offs: where priorities are changing\, how capital is being allocated\, and how companies are continuing to invest in next‑generation vehicle architectures\, including software‑defined platforms\, while maintaining operational discipline today. \nThe session will take the form of a fireside chat moderated by Nora Eckert of Reuters\, followed by audience Q&A. \nAgenda:\n8:00–9:00 a.m. — Networking breakfast (optional)\n9:00–10:00 a.m. — Presentation\, fireside chat\, Q&A\n10:00 a.m. — Event concludes \nEvent is free to SAA members. \nClick here to join the SAA if you are a non-member. 
URL:https://saaauto.com/event/the-decisions-that-will-shape-the-next-decade-of-automotive-a-conversation-with-magna-ceo-swamy-kotagiri/
LOCATION:Magna\, 750 Tower Drive\, Troy\, MI\, 78098\, United States
CATEGORIES:SAA Events,YPN Events
END:VEVENT
END:VCALENDAR