BEGIN:VCALENDAR
VERSION:2.0
PRODID:-//Society of Automotive Analysts - ECPv6.15.18//NONSGML v1.0//EN
CALSCALE:GREGORIAN
METHOD:PUBLISH
X-WR-CALNAME:Society of Automotive Analysts
X-ORIGINAL-URL:https://saaauto.com
X-WR-CALDESC:Events for Society of Automotive Analysts
REFRESH-INTERVAL;VALUE=DURATION:PT1H
X-Robots-Tag:noindex
X-PUBLISHED-TTL:PT1H
BEGIN:VTIMEZONE
TZID:America/New_York
BEGIN:DAYLIGHT
TZOFFSETFROM:-0500
TZOFFSETTO:-0400
TZNAME:EDT
DTSTART:20220313T070000
END:DAYLIGHT
BEGIN:STANDARD
TZOFFSETFROM:-0400
TZOFFSETTO:-0500
TZNAME:EST
DTSTART:20221106T060000
END:STANDARD
BEGIN:DAYLIGHT
TZOFFSETFROM:-0500
TZOFFSETTO:-0400
TZNAME:EDT
DTSTART:20230312T070000
END:DAYLIGHT
BEGIN:STANDARD
TZOFFSETFROM:-0400
TZOFFSETTO:-0500
TZNAME:EST
DTSTART:20231105T060000
END:STANDARD
BEGIN:DAYLIGHT
TZOFFSETFROM:-0500
TZOFFSETTO:-0400
TZNAME:EDT
DTSTART:20240310T070000
END:DAYLIGHT
BEGIN:STANDARD
TZOFFSETFROM:-0400
TZOFFSETTO:-0500
TZNAME:EST
DTSTART:20241103T060000
END:STANDARD
END:VTIMEZONE
BEGIN:VEVENT
DTSTART;TZID=America/New_York:20231003T090000
DTEND;TZID=America/New_York:20231003T103000
DTSTAMP:20260421T034839
CREATED:20230725T174502Z
LAST-MODIFIED:20230928T201559Z
UID:5209-1696323600-1696329000@saaauto.com
SUMMARY:Webinar: An Industry in Transition
DESCRIPTION:This webinar will feature updates and compelling insights on all of the timely and critical issues currently being faced by the automotive industry including the effects of the UAW strike\, the future of U.S. automakers\, supplier vulnerability\, consumer affordability\, the evolution and acceptance of electrification\, emerging legal issues\, and more. \nThe webinar will begin with comments on current industry topics from each speaker followed by a moderated discussion led by Jamie Butters of Automotive News. The final part of the webinar will feature a robust Q&A session with questions from the audience. \nSpeakers include:\nAustin Biskner \nSenior Manager \nPlante Moran \n  \nLuke Donahue \nDirector of Customer Success\, Data and Analytics \nJD Power \n  \nJeff Schuster \nGroup Head and Executive Vice President \nGlobalData \n  \nAnn Marie Uetz \nPartner \nFoley & Lardner \n  \n  \nMike Wall \nExecutive Director\, Automotive Analysis \nS&P Global Mobility \n  \nSteve Wybo \nSenior Managing Director \nRiveron \n  \n  \nModerator: Jamie Butters \nExecutive Editor \nAutomotive News \n\n  \n\n$59 for SAA members; $99 for non-members (includes 1-year SAA membership)\n \nShare This:
URL:https://saaauto.com/event/industry-in-transition-webinar/
LOCATION:MI
CATEGORIES:SAA Events,YPN Events
END:VEVENT
BEGIN:VEVENT
DTSTART;TZID=America/New_York:20231011T120000
DTEND;TZID=America/New_York:20231011T130000
DTSTAMP:20260421T034839
CREATED:20230818T165021Z
LAST-MODIFIED:20230822T135137Z
UID:5242-1697025600-1697029200@saaauto.com
SUMMARY:Lunch & Learn Webinar: Software-Defined Vehicles -- The Future of Safer and Smarter Mobility
DESCRIPTION:Lunch & Learn featuring:\nSoftware-defined vehicles (SDVs) are poised to make a transformative impact on consumers and automotive OEMs. Software is expected to account for as much as 50 percent of a new vehicle’s value by 2030… & it’s just the beginning. \nFor consumers\, the biggest game-changers will be customizable driving experiences with even greater safety\, convenience\, performance\, and a vehicle that “gets better” over time. \nFor OEMs\, SDVs will differentiate their brand experience\, strengthen customer loyalty\, offer new revenue opportunities and vehicle updates over the vehicle’s lifetime & so much more. \nJoin us for this exciting webinar to learn more about:\n• The Evolution of SDVs: Where We Are & Where We’re Heading\n• Benefits of Real-Time Access to New Safety\, Performance & Convenience Features\n• The Role of Software in OEM Brand Differentiation\n• How SDVs Are Driving New Business Models & Industry Collaboration\n• Convergence of Software & Connectivity with Other Megatrends & the Role of Steer-by-Wire as the Trends’ Center Link \nSpeakers: \n \nJoe Klesing\nProduct Line\nExecutive Software\nNexteer Automotive \n  \n  \n  \nColin Bird-Martinez\nPrincipal Consultant\nSoftware Defined Vehicle\nS&P Global Mobility \n  \nModerated by:\nMark Barrott\nPartner\nPlante Moran \n  \n  \nThis event is free but registration is required.  \n \nShare This:
URL:https://saaauto.com/event/5242/
LOCATION:MI
CATEGORIES:SAA Events,YPN Events
END:VEVENT
BEGIN:VEVENT
DTSTART;TZID=America/New_York:20231012T170000
DTEND;TZID=America/New_York:20231012T190000
DTSTAMP:20260421T034839
CREATED:20230828T144807Z
LAST-MODIFIED:20230828T151740Z
UID:5265-1697130000-1697137200@saaauto.com
SUMMARY:YPN Happy Hour
DESCRIPTION:Enjoy networking at the Detroit Fleat in Ferndale. This event is open to YPN members only — and food and the first drink on us! \nSponsored by: \n \n\n  \nFree to YPN members but registration is required. \n \nShare This:
URL:https://saaauto.com/event/yph-happy-hour/
LOCATION:Detroit Fleat\, 1820 E 9 Mile Rd.\, Ferndale\, MI\, 48220\, United States
CATEGORIES:SAA Events,YPN Events
END:VEVENT
BEGIN:VEVENT
DTSTART;TZID=America/New_York:20231018T110000
DTEND;TZID=America/New_York:20231018T111500
DTSTAMP:20260421T034839
CREATED:20230830T140152Z
LAST-MODIFIED:20230918T135145Z
UID:5277-1697626800-1697627700@saaauto.com
SUMMARY:SAA Coffee Break -- Automotive Aluminum: Driving the Future of Mobility Through Market Analysis\, Collaboration with Automakers\, and Ongoing Education
DESCRIPTION:What are SAA Coffee Breaks? \nWe know your time is limited and valuable. SAA’s Coffee Breaks are 15-minute presentations on timely and relevant topics. SAA Coffee Breaks are free and open to the industry. \nAutomotive Aluminum: Driving the Future of Mobility Through Market Analysis\, Collaboration with Automakers\, and Ongoing Education \nThe transition to electrified mobility is the greatest sectoral shift of our generation and a crucial step in decarbonizing human mobility. Join Aluminum Transportation Group vice chair\, Craig Lewis as he highlights future growth forecasts and the aluminum industry’s commitment to supporting automakers in this changing landscape through ongoing education to equip engineers for success with aluminum. \nFeaturing: \nCraig Lewis \nVice Chair\, Aluminum Transportation Group \nVice President of Strategic Transformation\, Constellium \n\n\n\n\n  \n\nAttendance is free\, but registration is required. 
URL:https://saaauto.com/event/saa-coffee-break-automotive-aluminum-driving-the-future-of-mobility-through-market-analysis-collaboration-with-automakers-and-ongoing-education/
LOCATION:MI
CATEGORIES:SAA Events,YPN Events
END:VEVENT
END:VCALENDAR