BEGIN:VCALENDAR
VERSION:2.0
PRODID:-//Society of Automotive Analysts - ECPv6.15.18//NONSGML v1.0//EN
CALSCALE:GREGORIAN
METHOD:PUBLISH
X-WR-CALNAME:Society of Automotive Analysts
X-ORIGINAL-URL:https://saaauto.com
X-WR-CALDESC:Events for Society of Automotive Analysts
REFRESH-INTERVAL;VALUE=DURATION:PT1H
X-Robots-Tag:noindex
X-PUBLISHED-TTL:PT1H
BEGIN:VTIMEZONE
TZID:America/New_York
BEGIN:DAYLIGHT
TZOFFSETFROM:-0500
TZOFFSETTO:-0400
TZNAME:EDT
DTSTART:20180311T070000
END:DAYLIGHT
BEGIN:STANDARD
TZOFFSETFROM:-0400
TZOFFSETTO:-0500
TZNAME:EST
DTSTART:20181104T060000
END:STANDARD
BEGIN:DAYLIGHT
TZOFFSETFROM:-0500
TZOFFSETTO:-0400
TZNAME:EDT
DTSTART:20190310T070000
END:DAYLIGHT
BEGIN:STANDARD
TZOFFSETFROM:-0400
TZOFFSETTO:-0500
TZNAME:EST
DTSTART:20191103T060000
END:STANDARD
BEGIN:DAYLIGHT
TZOFFSETFROM:-0500
TZOFFSETTO:-0400
TZNAME:EDT
DTSTART:20200308T070000
END:DAYLIGHT
BEGIN:STANDARD
TZOFFSETFROM:-0400
TZOFFSETTO:-0500
TZNAME:EST
DTSTART:20201101T060000
END:STANDARD
END:VTIMEZONE
BEGIN:VEVENT
DTSTART;TZID=America/New_York:20191112T073000
DTEND;TZID=America/New_York:20191112T120000
DTSTAMP:20260421T154811
CREATED:20190719T160054Z
LAST-MODIFIED:20191101T210313Z
UID:2455-1573543800-1573560000@saaauto.com
SUMMARY:Mobility: Realities and Ground Truths
DESCRIPTION:Exclusive Audience with Magna Executives\nMobility: Realities and Ground Truths\nNovember 12\, 2019 \nSOLD OUT\nAgenda:\n7:30 – 8:30 a.m. – Networking Breakfast and Registration\n8:30 – 11:00 a.m. – Presentations from Magna Leadership\n11:30 a.m. – Lunch and Technology Overview (Speak to Magna Product Experts in Innovation Showroom; Possible Ride and Drives)\n \nMagna is a mobility technology company and one of the largest suppliers to the global automotive industry. An industry that has transformed so drastically in just a few recent years\, they’ve changed how they view their place in it. Magna’s mindset: Leverage 60 years of experience in automotive\, while acting like a startup and innovating like a technology company. \nMagna executives will provide real insights into the new mobility landscape including what impact it will have\, how fast things will change and how they are doing more than just adapting. \nAttendees will learn more about Magna technologies by touring its Innovation Showroom. Lunch will be provided. \n \n \n 
URL:https://saaauto.com/event/exclusive-invite-from-magna-mobility-realities-and-ground-truths/
LOCATION:Magna\, 1067 Centre Road\, Auburn Hills\, MI\, 48326\, United States
CATEGORIES:SAA Events,YPN Events
END:VEVENT
END:VCALENDAR