BEGIN:VCALENDAR
VERSION:2.0
PRODID:-//Society of Automotive Analysts - ECPv6.15.18//NONSGML v1.0//EN
CALSCALE:GREGORIAN
METHOD:PUBLISH
X-ORIGINAL-URL:https://saaauto.com
X-WR-CALDESC:Events for Society of Automotive Analysts
REFRESH-INTERVAL;VALUE=DURATION:PT1H
X-Robots-Tag:noindex
X-PUBLISHED-TTL:PT1H
BEGIN:VTIMEZONE
TZID:America/New_York
BEGIN:DAYLIGHT
TZOFFSETFROM:-0500
TZOFFSETTO:-0400
TZNAME:EDT
DTSTART:20180311T070000
END:DAYLIGHT
BEGIN:STANDARD
TZOFFSETFROM:-0400
TZOFFSETTO:-0500
TZNAME:EST
DTSTART:20181104T060000
END:STANDARD
BEGIN:DAYLIGHT
TZOFFSETFROM:-0500
TZOFFSETTO:-0400
TZNAME:EDT
DTSTART:20190310T070000
END:DAYLIGHT
BEGIN:STANDARD
TZOFFSETFROM:-0400
TZOFFSETTO:-0500
TZNAME:EST
DTSTART:20191103T060000
END:STANDARD
BEGIN:DAYLIGHT
TZOFFSETFROM:-0500
TZOFFSETTO:-0400
TZNAME:EDT
DTSTART:20200308T070000
END:DAYLIGHT
BEGIN:STANDARD
TZOFFSETFROM:-0400
TZOFFSETTO:-0500
TZNAME:EST
DTSTART:20201101T060000
END:STANDARD
END:VTIMEZONE
BEGIN:VEVENT
DTSTART;TZID=America/New_York:20191003T173000
DTEND;TZID=America/New_York:20191003T200000
DTSTAMP:20260422T093740
CREATED:20190907T164312Z
LAST-MODIFIED:20190911T222508Z
UID:2510-1570123800-1570132800@saaauto.com
SUMMARY:A Tour of Eastern Market (and Pizza & Beer too!)
DESCRIPTION:Join the SAA’s Young Professionals Network (YPN) for a fun networking event on October 3\, 2019.  Attendees will  meet at the awesome Eastern Market Brewing Co. for networking and then we will take a short tour of Eastern Market led by Jeanette Pierce\, founder of the Detroit Experience Factory. The tour will include viewing the new murals that were recently unveiled in the market. \n  \nWe will then return to the brewery for Supino Pizzeria and hear from Olga Stella\, executive director of Design Core Detroit\, which offers services to strengthen\, grow and attract design businesses\, increases market demand for design services\, and tells Detroit’s design story locally and globally. Design Core is a department within the College for Creative Studies. \n \nFollowing the speaker\, there will be plenty of more time for networking\, pizza and beer. (Pizza will be provided with admission; cash bar for drinks) \nIt is only $5 to attend for SAA and YPN members\, and $10 for non-members. \n  \n  \n \n  \n  \n  \n  \n  \nShare This:
URL:https://saaauto.com/event/a-tour-of-eastern-market-and-beer/
LOCATION:Eastern Market Brewing Co.\, 2515 Riopelle Street\, Detroit\, MI\, 48207\, United States
CATEGORIES:SAA Events,YPN Events
END:VEVENT
END:VCALENDAR