BEGIN:VCALENDAR
VERSION:2.0
PRODID:-//Society of Automotive Analysts - ECPv6.15.18//NONSGML v1.0//EN
CALSCALE:GREGORIAN
METHOD:PUBLISH
X-WR-CALNAME:Society of Automotive Analysts
X-ORIGINAL-URL:https://saaauto.com
X-WR-CALDESC:Events for Society of Automotive Analysts
REFRESH-INTERVAL;VALUE=DURATION:PT1H
X-Robots-Tag:noindex
X-PUBLISHED-TTL:PT1H
BEGIN:VTIMEZONE
TZID:America/New_York
BEGIN:DAYLIGHT
TZOFFSETFROM:-0500
TZOFFSETTO:-0400
TZNAME:EDT
DTSTART:20180311T070000
END:DAYLIGHT
BEGIN:STANDARD
TZOFFSETFROM:-0400
TZOFFSETTO:-0500
TZNAME:EST
DTSTART:20181104T060000
END:STANDARD
BEGIN:DAYLIGHT
TZOFFSETFROM:-0500
TZOFFSETTO:-0400
TZNAME:EDT
DTSTART:20190310T070000
END:DAYLIGHT
BEGIN:STANDARD
TZOFFSETFROM:-0400
TZOFFSETTO:-0500
TZNAME:EST
DTSTART:20191103T060000
END:STANDARD
BEGIN:DAYLIGHT
TZOFFSETFROM:-0500
TZOFFSETTO:-0400
TZNAME:EDT
DTSTART:20200308T070000
END:DAYLIGHT
BEGIN:STANDARD
TZOFFSETFROM:-0400
TZOFFSETTO:-0500
TZNAME:EST
DTSTART:20201101T060000
END:STANDARD
END:VTIMEZONE
BEGIN:VEVENT
DTSTART;TZID=America/New_York:20190618T073000
DTEND;TZID=America/New_York:20190618T113000
DTSTAMP:20260422T172025
CREATED:20190426T214530Z
LAST-MODIFIED:20190614T161058Z
UID:2224-1560843000-1560857400@saaauto.com
SUMMARY:10th Annual OEM Purchasing Executives Summit
DESCRIPTION:EVENT IS SOLD OUT.  REGISTRATION IS NOW CLOSED.\n7:30 a.m. Networking Breakfast  \n8:15 a.m. – 11:30 a.m. Speakers and Q&A \nLocation: Faurecia North America\, 2800 High Meadow Circle\, Auburn Hills\, MI \nHost Sponsor:\n \nEvent sponsors: \n \n \n  \nMeet OEM Purchasing Executives and their staff! \n\nAttend and Learn \nPlante Moran’s David Andrea will present results of the 2019 North American Automotive OEM Tier 1 Supplier Working Relations Index Study\, followed by comments from six OEM executives. An extended Q&A will follow the executives’ remarks. You can propose questions when registering for the event. \nNEW INSIGHT: The 2019 North American Automotive OEM-Tier 1 Supplier Working Relations Index Study for the first time will include year-end financial data for all six OEMs which will help demonstrate the correlation between working relations and financial performance. \n• Which OEMs are improving their relations with suppliers and which are falling behind \n• How OEMs are improving relations; what programs and policies are they embarking on \n• How OEM cost-cutting programs affect supplier relations \n• How electrification and autonomous vehicle programs are impacting traditional suppliers \n• What strategies suppliers should consider when working with OEM purchasing teams \n• How supplier relations directly impact the bottom line – for both OEMs and suppliers \nSAA appreciates the participation of the following OEMs: \n \nSpeakers: \n \n  \n  \n  \n  \n  \n  \n  \n  \n  \n  \n  \n  \n  \n  \n  \n  \n  \n  \n  \n  \n  \n 
URL:https://saaauto.com/event/purchasing/
LOCATION:Faurecia North America\, 2800 High Meadow Circle\, Auburn Hills\, MI\, 48326\, United States
CATEGORIES:SAA Events,YPN Events
END:VEVENT
END:VCALENDAR