BEGIN:VCALENDAR
VERSION:2.0
PRODID:-//Society of Automotive Analysts - ECPv6.15.18//NONSGML v1.0//EN
CALSCALE:GREGORIAN
METHOD:PUBLISH
X-WR-CALNAME:Society of Automotive Analysts
X-ORIGINAL-URL:https://saaauto.com
X-WR-CALDESC:Events for Society of Automotive Analysts
REFRESH-INTERVAL;VALUE=DURATION:PT1H
X-Robots-Tag:noindex
X-PUBLISHED-TTL:PT1H
BEGIN:VTIMEZONE
TZID:America/New_York
BEGIN:DAYLIGHT
TZOFFSETFROM:-0500
TZOFFSETTO:-0400
TZNAME:EDT
DTSTART:20180311T070000
END:DAYLIGHT
BEGIN:STANDARD
TZOFFSETFROM:-0400
TZOFFSETTO:-0500
TZNAME:EST
DTSTART:20181104T060000
END:STANDARD
BEGIN:DAYLIGHT
TZOFFSETFROM:-0500
TZOFFSETTO:-0400
TZNAME:EDT
DTSTART:20190310T070000
END:DAYLIGHT
BEGIN:STANDARD
TZOFFSETFROM:-0400
TZOFFSETTO:-0500
TZNAME:EST
DTSTART:20191103T060000
END:STANDARD
BEGIN:DAYLIGHT
TZOFFSETFROM:-0500
TZOFFSETTO:-0400
TZNAME:EDT
DTSTART:20200308T070000
END:DAYLIGHT
BEGIN:STANDARD
TZOFFSETFROM:-0400
TZOFFSETTO:-0500
TZNAME:EST
DTSTART:20201101T060000
END:STANDARD
END:VTIMEZONE
BEGIN:VEVENT
DTSTART;TZID=America/New_York:20190327T073000
DTEND;TZID=America/New_York:20190327T113000
DTSTAMP:20260424T113636
CREATED:20190219T142758Z
LAST-MODIFIED:20190314T185057Z
UID:2202-1553671800-1553686200@saaauto.com
SUMMARY:6th Annual  State of Automotive Recalls Summit
DESCRIPTION:Wednesday\, March 27\, 2019\n7:30 a.m. Networking Breakfast \n8:15 a.m. – 11:30 a.m. Speakers and Q&A \n \nIn partnership with: \n \n  \n  \n  \nEvent sponsor: \n \n  \n  \n  \nWhy Attend: \n\nLearn about the latest trends and insights regarding automotive recall size\, scope and type.\nHas the industry’s response to the recall crises of several years ago changed the frequency and scope of recalls today?\nTreading new ground: We will discuss key insights related to component defect risk and risk mitigation opportunities for new entrants to the automotive industry.\nLearn how the insurance industry is supporting the financial management of recall risk in 2019.\nExplore the latest indicators of software and electronic defects\, and the risks faced when components are integrated into complex systems.\nSensors\, cameras\, and connectivity: what defect trends are emerging in the industry and how are suppliers responding to new risks?\nWe will discuss recent legislative and rulemaking updates affecting the industry and the public.\nWhat are the latest trends in vehicle owner outreach\, and how are new techniques affecting recall campaign completion percentages?\nLearn about what recent recall trends are telling us about how the age of the U.S. vehicle fleet may be impacting recall campaign costs.\nAnalyzing the value of Tier 1 Supplier companies requires a sophisticated understanding of recall trends and costs – especially for each supplier’s product portfolio. We’ll discuss how to use recall data to do this and what it means for fundamental financial and valuation analysis.\n\nDownload Event Flyer \nSpeakers: \nNeil Steinkamp \nManaging Director \nStout \n  \n  \n \nRobert Levine \nSenior Manager \nStout \n  \n  \nMike Stankard \nAutomotive Industry Practice Leader \nAon \n  \n \nDan Sharkey \nPartner \nBrooks Wilkins Sharkey & Turco \n  \n  \nVanessa Miller \nLitigation Partner \nFoley & Lardner LLP \n  \n  \n \nRay Roth \nDirector\, Dispute Consulting \nStout \n  \n  \nSAA Members: $99\nNon-Members: $129\n 
URL:https://saaauto.com/event/6th-annual-state-of-automotive-recalls-summit/
LOCATION:Detroit Marriott Livonia\, 17100 Laurel Park Drive North\, Livonia\, 48152\, United States
CATEGORIES:SAA Events,YPN Events
END:VEVENT
END:VCALENDAR