BEGIN:VCALENDAR
VERSION:2.0
PRODID:-//Society of Automotive Analysts - ECPv6.15.18//NONSGML v1.0//EN
CALSCALE:GREGORIAN
METHOD:PUBLISH
X-WR-CALNAME:Society of Automotive Analysts
X-ORIGINAL-URL:https://saaauto.com
X-WR-CALDESC:Events for Society of Automotive Analysts
REFRESH-INTERVAL;VALUE=DURATION:PT1H
X-Robots-Tag:noindex
X-PUBLISHED-TTL:PT1H
BEGIN:VTIMEZONE
TZID:America/New_York
BEGIN:DAYLIGHT
TZOFFSETFROM:-0500
TZOFFSETTO:-0400
TZNAME:EDT
DTSTART:20220313T070000
END:DAYLIGHT
BEGIN:STANDARD
TZOFFSETFROM:-0400
TZOFFSETTO:-0500
TZNAME:EST
DTSTART:20221106T060000
END:STANDARD
BEGIN:DAYLIGHT
TZOFFSETFROM:-0500
TZOFFSETTO:-0400
TZNAME:EDT
DTSTART:20230312T070000
END:DAYLIGHT
BEGIN:STANDARD
TZOFFSETFROM:-0400
TZOFFSETTO:-0500
TZNAME:EST
DTSTART:20231105T060000
END:STANDARD
BEGIN:DAYLIGHT
TZOFFSETFROM:-0500
TZOFFSETTO:-0400
TZNAME:EDT
DTSTART:20240310T070000
END:DAYLIGHT
BEGIN:STANDARD
TZOFFSETFROM:-0400
TZOFFSETTO:-0500
TZNAME:EST
DTSTART:20241103T060000
END:STANDARD
END:VTIMEZONE
BEGIN:VEVENT
DTSTART;TZID=America/New_York:20231109T074500
DTEND;TZID=America/New_York:20231109T114500
DTSTAMP:20260420T061317
CREATED:20230831T174737Z
LAST-MODIFIED:20231026T125141Z
UID:5293-1699515900-1699530300@saaauto.com
SUMMARY:Materials Innovations Summit
DESCRIPTION:The Role of Lightweighting in Mobility’s Evolution\nSponsored by: \n \nNetworking Continental Breakfast 7:45 a.m. – 8:30 a.m.\nPresentations and Awards 8:30 a.m. – 11:45 a.m. \nAdvanced materials are essential for boosting the fuel economy of modern automobiles while maintaining safety and performance. As the mobility industry evolves toward hybrid electric\, plug-in hybrid electric\, and electric vehicles\, advanced materials take on a greater significance. Using lightweight materials in these vehicles can offset the weight of power systems such as batteries and electric motors\, improving efficiency and increasing their all-electric range. \nLightweight structural materials in vehicles can also allow emission control systems\, safety devices\, and integrated electronic systems without increasing the overall weight of the vehicle. The roles and benefits of aluminum\, steel\, plastics\, rubber\, and magnesium in vehicles today will be examined and discussed at this SAA event. \nSpeakers include: \nKeynote Speaker \nTerry Woychowski \nPresident\, Caresoft Global \n  \nMaterial Trends in Mobility\nAbey Abraham\, Ducker Carlisle \nSteel Industry\nMichael Davenport\, Auto Steel Partnership \nAluminum Industry\nCraig Lewis\, Aluminum Transportation Group Vice Chair\nVice President\, Strategic Transformation\, Constellium \nMagnesium Industry\nJon Weiler\, International Magnesium Association and Chief Engineer\, Meridian \nRubber Industry\nDr. Paul J. Hochgesang\, Fellow\, Materials Development\, Freudenberg-NOK Sealing Technologies \nComposite/Plastics Industry\nBrian Krull\, Global Director of Innovation\, Magna Exteriors \nQ & A Moderated by\nJamie Butters\, Executive Editor\, Automotive News \nInnovations In Lightweighting Finalist Presentations and Award \nFirst Finalist: Gabe Knee\, Global Marketing Manager\, Celanese \nSecond Finalist: TBD\, Bocar Group \nHosted by: \n \n$79 members \n$149 non-members (includes 1-year SAA membership) \n \n  \n 
URL:https://saaauto.com/event/materials-innovations-summit/
LOCATION:Magna Exteriors Advanced Development Innovation Center\, 1067 Centre Road\, Auburn Hills\, MI\, 48326\, United States
CATEGORIES:SAA Events,YPN Events
END:VEVENT
END:VCALENDAR