BEGIN:VCALENDAR
VERSION:2.0
PRODID:-//Society of Automotive Analysts - ECPv6.15.18//NONSGML v1.0//EN
CALSCALE:GREGORIAN
METHOD:PUBLISH
X-ORIGINAL-URL:https://saaauto.com
X-WR-CALDESC:Events for Society of Automotive Analysts
REFRESH-INTERVAL;VALUE=DURATION:PT1H
X-Robots-Tag:noindex
X-PUBLISHED-TTL:PT1H
BEGIN:VTIMEZONE
TZID:America/New_York
BEGIN:DAYLIGHT
TZOFFSETFROM:-0500
TZOFFSETTO:-0400
TZNAME:EDT
DTSTART:20220313T070000
END:DAYLIGHT
BEGIN:STANDARD
TZOFFSETFROM:-0400
TZOFFSETTO:-0500
TZNAME:EST
DTSTART:20221106T060000
END:STANDARD
BEGIN:DAYLIGHT
TZOFFSETFROM:-0500
TZOFFSETTO:-0400
TZNAME:EDT
DTSTART:20230312T070000
END:DAYLIGHT
BEGIN:STANDARD
TZOFFSETFROM:-0400
TZOFFSETTO:-0500
TZNAME:EST
DTSTART:20231105T060000
END:STANDARD
BEGIN:DAYLIGHT
TZOFFSETFROM:-0500
TZOFFSETTO:-0400
TZNAME:EDT
DTSTART:20240310T070000
END:DAYLIGHT
BEGIN:STANDARD
TZOFFSETFROM:-0400
TZOFFSETTO:-0500
TZNAME:EST
DTSTART:20241103T060000
END:STANDARD
END:VTIMEZONE
BEGIN:VEVENT
DTSTART;TZID=America/New_York:20230913T110000
DTEND;TZID=America/New_York:20230913T111500
DTSTAMP:20260422T093455
CREATED:20230518T182315Z
LAST-MODIFIED:20230522T170411Z
UID:5068-1694602800-1694603700@saaauto.com
SUMMARY:SAA Coffee Break: EVs of the Future Will Force Suppliers to Pivot
DESCRIPTION:What are SAA Coffee Breaks?  \nWe know your time is limited and valuable. SAA’s Coffee Breaks are 15-minute presentations on timely and relevant topics. SAA Coffee Breaks are free and open to the industry. \n  \n \n  \nEVs of the future will force suppliers to pivot\nElectric vehicles will soon be the industry and consumer standard. With the phase-out of internal combustion engines\, suppliers must adapt and pivot to meet new demand and compete — all while grappling with real-time evolution in the industry. Simply put\, keeping up with change is a baseline requirement for survival; those striving to stay one step ahead will thrive. And be sure to tune in for a discussion of the new EV models featured at the North American International Auto Show and their implications for suppliers. \nAttendance is free but registration is required. \n \n  \nShare This:
URL:https://saaauto.com/event/saa-coffee-break-evs-of-the-future-will-force-suppliers-to-pivot/
LOCATION:MI
CATEGORIES:SAA Events,YPN Events
END:VEVENT
END:VCALENDAR