BEGIN:VCALENDAR
VERSION:2.0
PRODID:-//Society of Automotive Analysts - ECPv6.15.18//NONSGML v1.0//EN
CALSCALE:GREGORIAN
METHOD:PUBLISH
X-ORIGINAL-URL:https://saaauto.com
X-WR-CALDESC:Events for Society of Automotive Analysts
REFRESH-INTERVAL;VALUE=DURATION:PT1H
X-Robots-Tag:noindex
X-PUBLISHED-TTL:PT1H
BEGIN:VTIMEZONE
TZID:America/New_York
BEGIN:DAYLIGHT
TZOFFSETFROM:-0500
TZOFFSETTO:-0400
TZNAME:EDT
DTSTART:20220313T070000
END:DAYLIGHT
BEGIN:STANDARD
TZOFFSETFROM:-0400
TZOFFSETTO:-0500
TZNAME:EST
DTSTART:20221106T060000
END:STANDARD
BEGIN:DAYLIGHT
TZOFFSETFROM:-0500
TZOFFSETTO:-0400
TZNAME:EDT
DTSTART:20230312T070000
END:DAYLIGHT
BEGIN:STANDARD
TZOFFSETFROM:-0400
TZOFFSETTO:-0500
TZNAME:EST
DTSTART:20231105T060000
END:STANDARD
BEGIN:DAYLIGHT
TZOFFSETFROM:-0500
TZOFFSETTO:-0400
TZNAME:EDT
DTSTART:20240310T070000
END:DAYLIGHT
BEGIN:STANDARD
TZOFFSETFROM:-0400
TZOFFSETTO:-0500
TZNAME:EST
DTSTART:20241103T060000
END:STANDARD
END:VTIMEZONE
BEGIN:VEVENT
DTSTART;TZID=America/New_York:20230627T120000
DTEND;TZID=America/New_York:20230627T130000
DTSTAMP:20260422T123713
CREATED:20230517T131012Z
LAST-MODIFIED:20230518T153245Z
UID:5045-1687867200-1687870800@saaauto.com
SUMMARY:Don't Get Stuck in the Speed Trap (Free Lunch & Learn Featuring WiTricity)
DESCRIPTION:SAA Lunch & Learn Featuring:\n \nWe live in a fast world. Everyone wants something now. At this moment. Immediately. But charging an electric vehicle takes more\ntime than filling a car’s fuel tank. Is that a bad thing? \nIt’s time to change our mental model for fueling EVs. When it comes to learning new ideas\, we always start with what we know\, so it’s no surprise that we instinctively want to translate the gas station model to a charging model for EVs. But for lots of reasons\, it’s important not to get stuck in that speed trap: bring charging to where cars are already parked – the state of most cars\, most of the time – will create a more resilient grid\, accelerate EV adoption\, and lead to a greener future. \nPresenters: \nPamposh Zutshi\nSr. Director\, Product Management \n  \n  \nRohan Jain\nProduct Manager \n  \n  \n  \nVideos of interest: \n\nThis Tesla Charges Wirelessly\nAutonomous Buses Fueled by Wireless Charging \nHow Easy Could it Be to Charge Your EV? \n\nThis webinar is free but registration is required.  \n \nShare This:
URL:https://saaauto.com/event/dont-get-stuck-in-the-speed-trap-free-lunch-learn-featuring-witricity/
LOCATION:MI
CATEGORIES:SAA Events,YPN Events
END:VEVENT
END:VCALENDAR