BEGIN:VCALENDAR
VERSION:2.0
PRODID:-//Society of Automotive Analysts - ECPv6.15.18//NONSGML v1.0//EN
CALSCALE:GREGORIAN
METHOD:PUBLISH
X-WR-CALNAME:Society of Automotive Analysts
X-ORIGINAL-URL:https://saaauto.com
X-WR-CALDESC:Events for Society of Automotive Analysts
REFRESH-INTERVAL;VALUE=DURATION:PT1H
X-Robots-Tag:noindex
X-PUBLISHED-TTL:PT1H
BEGIN:VTIMEZONE
TZID:America/New_York
BEGIN:DAYLIGHT
TZOFFSETFROM:-0500
TZOFFSETTO:-0400
TZNAME:EDT
DTSTART:20220313T070000
END:DAYLIGHT
BEGIN:STANDARD
TZOFFSETFROM:-0400
TZOFFSETTO:-0500
TZNAME:EST
DTSTART:20221106T060000
END:STANDARD
BEGIN:DAYLIGHT
TZOFFSETFROM:-0500
TZOFFSETTO:-0400
TZNAME:EDT
DTSTART:20230312T070000
END:DAYLIGHT
BEGIN:STANDARD
TZOFFSETFROM:-0400
TZOFFSETTO:-0500
TZNAME:EST
DTSTART:20231105T060000
END:STANDARD
BEGIN:DAYLIGHT
TZOFFSETFROM:-0500
TZOFFSETTO:-0400
TZNAME:EDT
DTSTART:20240310T070000
END:DAYLIGHT
BEGIN:STANDARD
TZOFFSETFROM:-0400
TZOFFSETTO:-0500
TZNAME:EST
DTSTART:20241103T060000
END:STANDARD
END:VTIMEZONE
BEGIN:VEVENT
DTSTART;TZID=America/New_York:20230329T083000
DTEND;TZID=America/New_York:20230329T100000
DTSTAMP:20260424T062410
CREATED:20230301T162138Z
LAST-MODIFIED:20230301T162138Z
UID:4909-1680078600-1680084000@saaauto.com
SUMMARY:Nikola's Zero-Emission Future: The Power of Reinvention
DESCRIPTION:Breakfast\, conversation and a ride in a zero-emission Nikola Tre truck at the birthplace of the Model T \nNikola Corporation\, a leading designer and manufacturer of heavy-duty commercial battery-electric vehicles (BEVs)\, fuel cell electric vehicles\, and energy supply and infrastructure solutions\, is paving the way as a global leader in zero-emissions transportation. \nThrough a business model that will enable corporate customers to integrate next-generation truck technology and hydrogen fueling infrastructure and maintenance\, Nikola and its strategic business partners and suppliers are on a mission to leave the world a better place. \nMeet the Nikola team driving this vision forward and ride along in the Nikola Tre BEV to experience the technology firsthand. While there\, visit the Ford Piquette Museum. \n \nThis is an Automotive Press Association (APA) event\, however\, SAA members can attend at no charge.  \nRegistration is required. 
URL:https://saaauto.com/event/nikolas-zero-emission-future-the-power-of-reinvention/
LOCATION:Ford Piquette Museum\, 461 Piquette Street\, Dearborn\, MI\, 48202\, United States
CATEGORIES:SAA Events,YPN Events
END:VEVENT
END:VCALENDAR